BEGIN:VCALENDAR
VERSION:2.0
PRODID:-//ChamberMaster//Event Calendar 2.0//EN
METHOD:PUBLISH
X-PUBLISHED-TTL:P3D
REFRESH-INTERVAL:P3D
CALSCALE:GREGORIAN
BEGIN:VEVENT
DTSTART:20201013T123000Z
DTEND:20201016T223000Z
X-MICROSOFT-CDO-ALLDAYEVENT:FALSE
SUMMARY:Basic Mediation Course
DESCRIPTION:This intensive four-day live online program\, 7:30 am   5:30 pm daily\, provides you with the opportunity to acquire knowledge\, skills\, and techniques used to assist parties with divergent positions or interests work towards a dispute resolution they can "live with" moving forward. \n\n \n\nThrough extensive role-play simulations\, you will be both the mediator and a party to a dispute learning how third-party neutral mediator intervention can help manage conflict in a wide variety of practice areas. The simulations use a variety of mediation delivery methods while the participants are observed and coached by a SHRM Recertification Provider and TMCA Credentialed Distinguished Mediator.\n\n \n\n          This program is valid for 40 PDCs for the SHRM-CP  or SHRM-SCP  and 40 hours of SBOT Continuing Legal Education.  Course content meets the mediator training requirements pursuant to Texas Civil Practice and Remedies Code  154.052(a)\, the Texas Mediator Credentialing Association (TMCA)\, and standards promulgated by the Texas Mediation Trainers Roundtable (TMTR).\n\n \n\nNote:  Class size is limited. Course materials are provided to participants on a flash drive.
X-ALT-DESC;FMTTYPE=text/html:<span style="color:rgb(57\, 54\, 79)\; font-family:arial\,helvetica\,sans-serif\; font-size:14px"><span style="font-family:verdana\,sans-serif">This intensive four-day live online program\, 7:30 am &ndash\; 5:30 pm daily\, provides you with the opportunity to acquire knowledge\, skills\, and techniques used to assist parties with divergent positions or interests work towards a dispute resolution they can &ldquo\;live with&rdquo\; moving forward.&nbsp\;</span></span><br />\n<span style="color:rgb(68\, 68\, 68)\; font-family:arial\,helvetica\,sans-serif\; font-size:14px">&nbsp\;</span><br />\n<span style="color:rgb(57\, 54\, 79)\; font-family:arial\,helvetica\,sans-serif\; font-size:14px"><span style="font-family:verdana\,sans-serif">Through extensive role-play simulations\, you will be both the mediator and a party to a dispute learning how third-party neutral mediator intervention can help manage conflict in a wide variety of practice areas. The simulations use a variety of mediation delivery methods while the participants are observed and coached by a SHRM Recertification Provider and TMCA Credentialed Distinguished Mediator.</span></span><br />\n<span style="color:rgb(68\, 68\, 68)\; font-family:arial\,helvetica\,sans-serif\; font-size:14px">&nbsp\;</span><br />\n<span style="color:rgb(68\, 68\, 68)\; font-family:arial\,helvetica\,sans-serif\; font-size:14px">&nbsp\;&nbsp\;&nbsp\;&nbsp\;&nbsp\;&nbsp\;&nbsp\;&nbsp\;&nbsp\;&nbsp\;</span><span style="color:rgb(68\, 68\, 68)\; font-family:arial\,helvetica\,sans-serif\; font-size:14px"><em><span style="color:black"><span style="font-family:verdana\,sans-serif">This program is valid for 40 PDCs for the SHRM-CP&reg\;&nbsp\;or SHRM-SCP&reg\; and 40 hours of SBOT Continuing Legal Education.&nbsp\;&nbsp\;</span></span></em></span><span style="color:rgb(68\, 68\, 68)\; font-family:arial\,helvetica\,sans-serif\; font-size:14px"><em><span style="color:rgb(57\, 54\, 79)"><span style="font-family:verdana\,sans-serif">Course content meets the mediator training requirements pursuant to Texas Civil Practice and Remedies Code &sect\;154.052(a)\, the Texas Mediator Credentialing Association (TMCA)\, and standards promulgated by the Texas Mediation Trainers Roundtable (TMTR).</span></span></em></span><br />\n<span style="color:rgb(68\, 68\, 68)\; font-family:arial\,helvetica\,sans-serif\; font-size:14px">&nbsp\;</span><br />\n<span style="color:rgb(68\, 68\, 68)\; font-family:arial\,helvetica\,sans-serif\; font-size:14px"><span style="color:rgb(57\, 54\, 79)"><span style="font-family:verdana\,sans-serif">Note:</span></span></span><span style="color:rgb(57\, 54\, 79)\; font-family:arial\,helvetica\,sans-serif\; font-size:14px"><span style="font-family:verdana\,sans-serif">&nbsp\;&nbsp\;Class size is limited.&nbsp\;Course materials are provided to participants on a flash drive.</span></span>
LOCATION:Live online with ZOOM.
UID:e.595.32339
SEQUENCE:3
DTSTAMP:20260422T221048Z
URL:http://schertzchamber.chambermaster.com/events/details/basic-mediation-course-32339
END:VEVENT

END:VCALENDAR
